BEGIN:VCALENDAR
PRODID:-//AT Content Types//AT Event//EN
VERSION:1.0
BEGIN:VEVENT
DTSTART:20090427T153000Z
DTEND:20090427T153000Z
DCREATED:20090427T152714Z
UID:ATEvent-6fdabc9ea019be6f9aa30008d8a37dae
SEQUENCE:0
LAST-MODIFIED:20090427T152757Z
SUMMARY:Aksatritiya
DESCRIPTION:Aksatritiya
LOCATION:Nepal
PRIORITY:3
TRANSP:0
END:VEVENT
END:VCALENDAR
