BEGIN:VCALENDAR
PRODID:-//AT Content Types//AT Event//EN
VERSION:2.0
METHOD:PUBLISH
BEGIN:VEVENT
DTSTAMP:20260419T182518Z
CREATED:20090914T022918Z
UID:ATEvent-f7172a0aea11667cb1f80192556834ca
LAST-MODIFIED:20090914T022924Z
SUMMARY:Annapurna Jatra\: Asoncalan
DTSTART:20090929T053000Z
DTEND:20090930T023000Z
DESCRIPTION:Annapurna Jatra\: Asoncalan
LOCATION:Nepal
CLASS:PUBLIC
END:VEVENT
END:VCALENDAR
