BEGIN:VCALENDAR
PRODID:-//AT Content Types//AT Event//EN
VERSION:1.0
BEGIN:VEVENT
DTSTART:20090509T051500Z
DTEND:20090510T031500Z
DCREATED:20090427T191336Z
UID:ATEvent-20016b122cae0489fed6863ddcc29175
SEQUENCE:0
LAST-MODIFIED:20090427T191457Z
SUMMARY:Banepa Candeswori Jatra
DESCRIPTION:Banepa Candeswori Jatra
LOCATION:Banepa\, Bhaktapur\, Nepal
PRIORITY:3
TRANSP:0
END:VEVENT
END:VCALENDAR
