BEGIN:VCALENDAR
PRODID:-//AT Content Types//AT Event//EN
VERSION:1.0
BEGIN:VEVENT
DTSTART:20091019T053500Z
DTEND:20091020T023500Z
DCREATED:20090914T023550Z
UID:ATEvent-e577bcf8ff950e32a6b2ed6c93282d95
SEQUENCE:0
LAST-MODIFIED:20090914T023613Z
SUMMARY:Bhaitika\: Kija puja
DESCRIPTION:Bhaitika\: Kija puja
LOCATION:Nepal
PRIORITY:3
TRANSP:0
END:VEVENT
END:VCALENDAR
