BEGIN:VCALENDAR
PRODID:-//AT Content Types//AT Event//EN
VERSION:2.0
METHOD:PUBLISH
BEGIN:VEVENT
DTSTAMP:20260419T164831Z
CREATED:20090608T023811Z
UID:ATEvent-3b5b0631c147207a20e9a8f5d8dc4238
LAST-MODIFIED:20090608T023906Z
SUMMARY:Bhal bhal Astami\: Navadurga concludes
DTSTART:20090616T054000Z
DTEND:20090617T024000Z
DESCRIPTION:Bhal bhal Astami\: Navadurga concludes
LOCATION:Nepal
CLASS:PUBLIC
END:VEVENT
END:VCALENDAR
