BEGIN:VCALENDAR
PRODID:-//AT Content Types//AT Event//EN
VERSION:2.0
METHOD:PUBLISH
BEGIN:VEVENT
DTSTAMP:20260419T164004Z
CREATED:20080531T120823Z
UID:ATEvent-070c690af62f60b2869b59374efbb9df
LAST-MODIFIED:20080531T120921Z
SUMMARY:Bijaya Dashain
DTSTART:20081009T121000Z
DTEND:20081010T021000Z
DESCRIPTION:Bijaya Dashain
LOCATION:Nepal
CLASS:PUBLIC
END:VEVENT
END:VCALENDAR
