BEGIN:VCALENDAR
PRODID:-//AT Content Types//AT Event//EN
VERSION:2.0
METHOD:PUBLISH
BEGIN:VEVENT
DTSTAMP:20260419T181532Z
CREATED:20090128T191336Z
UID:ATEvent-8bc460e2bedcf8a8e0ef2b35e8587e9a
LAST-MODIFIED:20090128T191346Z
SUMMARY:Bisket Yatra start on
DTSTART:20090410T041500Z
DTEND:20090411T031500Z
DESCRIPTION:Bisket Yatra start on
LOCATION:Bhaktapur\, Nepal
CLASS:PUBLIC
END:VEVENT
END:VCALENDAR
