BEGIN:VCALENDAR
PRODID:-//AT Content Types//AT Event//EN
VERSION:1.0
BEGIN:VEVENT
DTSTART:20090509T051000Z
DTEND:20090510T031000Z
DCREATED:20090427T191204Z
UID:ATEvent-108709716fbece5e2e3082d0758529bb
SEQUENCE:0
LAST-MODIFIED:20090427T191216Z
SUMMARY:Buddha Jayanti
DESCRIPTION:Buddha Jayanti - Birthday of Buddha
LOCATION:World
PRIORITY:3
TRANSP:0
END:VEVENT
END:VCALENDAR
