BEGIN:VCALENDAR
PRODID:-//AT Content Types//AT Event//EN
VERSION:2.0
METHOD:PUBLISH
BEGIN:VEVENT
DTSTAMP:20260419T164259Z
CREATED:20090128T191018Z
UID:ATEvent-c22f3125b009256b9596311b561723d9
LAST-MODIFIED:20090128T191026Z
SUMMARY:Chaite Dasain (Ramnavami)
DTSTART:20090403T041000Z
DTEND:20090404T031000Z
DESCRIPTION:Chaite Dasain (Ramnavami)
LOCATION:Nepal
CLASS:PUBLIC
END:VEVENT
END:VCALENDAR
