BEGIN:VCALENDAR
PRODID:-//AT Content Types//AT Event//EN
VERSION:2.0
METHOD:PUBLISH
BEGIN:VEVENT
DTSTAMP:20260419T163820Z
CREATED:20090914T023652Z
UID:ATEvent-6a0f84d852c05b139d85c8488aaf77af
LAST-MODIFIED:20090914T023704Z
SUMMARY:Chatha Parva
DTSTART:20091024T174000Z
DTEND:20091025T024000Z
DESCRIPTION:Chatha Parva
LOCATION:Nepal
CLASS:PUBLIC
END:VEVENT
END:VCALENDAR
