BEGIN:VCALENDAR
PRODID:-//AT Content Types//AT Event//EN
VERSION:1.0
BEGIN:VEVENT
DTSTART:20090629T054000Z
DTEND:20090630T024000Z
DCREATED:20090608T024109Z
UID:ATEvent-7d4a1a3d71198a841331708f28c43201
SEQUENCE:0
LAST-MODIFIED:20090608T024121Z
SUMMARY:Deopatan Gangamai Rath Jatra
DESCRIPTION:Deopatan Gangamai Rath Jatra
LOCATION:Nepal
PRIORITY:3
TRANSP:0
END:VEVENT
END:VCALENDAR
