BEGIN:VCALENDAR
PRODID:-//AT Content Types//AT Event//EN
VERSION:2.0
METHOD:PUBLISH
BEGIN:VEVENT
DTSTAMP:20260419T164413Z
CREATED:20090608T023954Z
UID:ATEvent-fbdf3c1207044a3f5a86abf9289cb7cc
LAST-MODIFIED:20090608T024007Z
SUMMARY:Deopatan trisul Jatra
DTSTART:20090616T054000Z
DTEND:20090617T024000Z
DESCRIPTION:Deopatan trisul Jatra
LOCATION:Nepal
CLASS:PUBLIC
END:VEVENT
END:VCALENDAR
