BEGIN:VCALENDAR
PRODID:-//AT Content Types//AT Event//EN
VERSION:1.0
BEGIN:VEVENT
DTSTART:20091016T053500Z
DTEND:20091017T023500Z
DCREATED:20090914T023155Z
UID:ATEvent-7f31a3d09909b6cb2c8e8ad52a65dcc5
SEQUENCE:0
LAST-MODIFIED:20090914T023202Z
SUMMARY:Dhanavontari jayanti
DESCRIPTION:Dhanavontari jayanti
LOCATION:Nepal
PRIORITY:3
TRANSP:0
END:VEVENT
END:VCALENDAR
