BEGIN:VCALENDAR
PRODID:-//AT Content Types//AT Event//EN
VERSION:2.0
METHOD:PUBLISH
BEGIN:VEVENT
DTSTAMP:20260419T164704Z
CREATED:20090128T181815Z
UID:ATEvent-b4cdb2c7afe22459ae75d14d0102843a
LAST-MODIFIED:20090128T181929Z
SUMMARY:Fagu or Holi Punhi
DTSTART:20090311T042000Z
DTEND:20090312T032000Z
DESCRIPTION:Fagu or Holi Punhi
LOCATION:Nepal
CLASS:PUBLIC
END:VEVENT
END:VCALENDAR
