BEGIN:VCALENDAR
PRODID:-//AT Content Types//AT Event//EN
VERSION:2.0
METHOD:PUBLISH
BEGIN:VEVENT
DTSTAMP:20260419T181629Z
CREATED:20090608T024448Z
UID:ATEvent-4463d8ef4f0183097e34cb40766a6109
LAST-MODIFIED:20090608T024501Z
SUMMARY:Gathamuga care
DTSTART:20090720T174500Z
DTEND:20090721T024500Z
DESCRIPTION:Gathamuga care
CLASS:PUBLIC
END:VEVENT
END:VCALENDAR
