BEGIN:VCALENDAR
PRODID:-//AT Content Types//AT Event//EN
VERSION:2.0
METHOD:PUBLISH
BEGIN:VEVENT
DTSTAMP:20260419T164120Z
CREATED:20080531T120335Z
UID:ATEvent-d582fbbc905a84dc85c46b22c9861896
LAST-MODIFIED:20080531T120343Z
SUMMARY:Ghasthansthapa
DTSTART:20080930T120500Z
DTEND:20081001T030500Z
DESCRIPTION:Ghasthansthapa -- Start of Bijaya Dhasami
LOCATION:Nepal
CLASS:PUBLIC
END:VEVENT
END:VCALENDAR
