BEGIN:VCALENDAR
PRODID:-//AT Content Types//AT Event//EN
VERSION:2.0
METHOD:PUBLISH
BEGIN:VEVENT
DTSTAMP:20260419T182416Z
CREATED:20090914T022147Z
UID:ATEvent-0053b38c673ff854e8fe36acb39147c5
LAST-MODIFIED:20090914T022159Z
SUMMARY:Ghatasthapna\, Navaratri begins
DTSTART:20090919T052500Z
DTEND:20090920T022500Z
DESCRIPTION:Ghatasthapna\, Navaratri begins
LOCATION:Nepal
CLASS:PUBLIC
END:VEVENT
END:VCALENDAR
