BEGIN:VCALENDAR
PRODID:-//AT Content Types//AT Event//EN
VERSION:2.0
METHOD:PUBLISH
BEGIN:VEVENT
DTSTAMP:20260419T163715Z
CREATED:20090128T190834Z
UID:ATEvent-e2acea166340031ab985cea8d0fe4fcd
LAST-MODIFIED:20090128T190845Z
SUMMARY:Ghode Yatra
DTSTART:20090326T041000Z
DTEND:20090327T031000Z
DESCRIPTION:Ghode Yatra
LOCATION:Kathmandu\, Nepal
CLASS:PUBLIC
END:VEVENT
END:VCALENDAR
