BEGIN:VCALENDAR
PRODID:-//AT Content Types//AT Event//EN
VERSION:2.0
METHOD:PUBLISH
BEGIN:VEVENT
DTSTAMP:20260419T164213Z
CREATED:20090608T024553Z
UID:ATEvent-1da4928da68a40f4b8d7a9d9b9666b10
LAST-MODIFIED:20090608T024605Z
SUMMARY:Gunala dharma begins
DTSTART:20090723T054500Z
DTEND:20090724T024500Z
DESCRIPTION:Gunala dharma begins
CLASS:PUBLIC
END:VEVENT
END:VCALENDAR
