BEGIN:VCALENDAR
PRODID:-//AT Content Types//AT Event//EN
VERSION:1.0
BEGIN:VEVENT
DTSTART:20091016T053500Z
DTEND:20091017T023500Z
DCREATED:20090914T023251Z
UID:ATEvent-9abd57ad33bbf3bd75acaade3469ceac
SEQUENCE:0
LAST-MODIFIED:20090914T023303Z
SUMMARY:Kakvali\:kag tihar
DESCRIPTION:Kakvali\:kag tihar
PRIORITY:3
TRANSP:0
END:VEVENT
END:VCALENDAR
