BEGIN:VCALENDAR
PRODID:-//AT Content Types//AT Event//EN
VERSION:2.0
METHOD:PUBLISH
BEGIN:VEVENT
DTSTAMP:20260419T182831Z
CREATED:20090914T023043Z
UID:ATEvent-de1a0a49374a53547dcc5aecb6cba44e
LAST-MODIFIED:20090914T023050Z
SUMMARY:Kati punhi\: Kojagatra purnima
DTSTART:20091004T053000Z
DTEND:20091005T023000Z
DESCRIPTION:Kati punhi\: Kojagatra purnima
LOCATION:Nepal
CLASS:PUBLIC
END:VEVENT
END:VCALENDAR
