BEGIN:VCALENDAR
PRODID:-//AT Content Types//AT Event//EN
VERSION:2.0
METHOD:PUBLISH
BEGIN:VEVENT
DTSTAMP:20260419T182458Z
CREATED:20090914T023353Z
UID:ATEvent-f19479f8e0c58420c9651c49a6176fa0
LAST-MODIFIED:20090914T023402Z
SUMMARY:Kukur tihar\: Laxmi Puja
DTSTART:20091017T053500Z
DTEND:20091018T023500Z
DESCRIPTION:Kukur tihar\: Laxmi Puja
LOCATION:Nepal
CLASS:PUBLIC
END:VEVENT
END:VCALENDAR
