BEGIN:VCALENDAR
PRODID:-//AT Content Types//AT Event//EN
VERSION:2.0
METHOD:PUBLISH
BEGIN:VEVENT
DTSTAMP:20260423T125259Z
CREATED:20090914T022634Z
UID:ATEvent-a85fa523770ee19382fae4b065f7e22c
LAST-MODIFIED:20090914T022646Z
SUMMARY:Mahaastami\:Kalratri
DTSTART:20090926T052500Z
DTEND:20090927T022500Z
DESCRIPTION:Mahaastami\:Kalratri
LOCATION:Nepal
CLASS:PUBLIC
END:VEVENT
END:VCALENDAR
