BEGIN:VCALENDAR
PRODID:-//AT Content Types//AT Event//EN
VERSION:2.0
METHOD:PUBLISH
BEGIN:VEVENT
DTSTAMP:20260419T183350Z
CREATED:20090914T022739Z
UID:ATEvent-4caac1414f689275e2d854fd4ddd2abd
LAST-MODIFIED:20090914T022749Z
SUMMARY:Mahanavami\: Syako Tyako
DTSTART:20090927T053000Z
DTEND:20090928T023000Z
DESCRIPTION:Mahanavami\: Syako Tyako
CLASS:PUBLIC
END:VEVENT
END:VCALENDAR
