BEGIN:VCALENDAR
PRODID:-//AT Content Types//AT Event//EN
VERSION:2.0
METHOD:PUBLISH
BEGIN:VEVENT
DTSTAMP:20260419T164011Z
CREATED:20090128T181718Z
UID:ATEvent-fee3eb0263921389991077dbe33b1e96
LAST-MODIFIED:20090128T181726Z
SUMMARY:Mahasivaratri
DTSTART:20090223T052000Z
DTEND:20090224T042000Z
DESCRIPTION:Mahasivaratri
LOCATION:Kathmandu\, Nepal
CLASS:PUBLIC
END:VEVENT
END:VCALENDAR
