BEGIN:VCALENDAR
PRODID:-//AT Content Types//AT Event//EN
VERSION:2.0
METHOD:PUBLISH
BEGIN:VEVENT
DTSTAMP:20260419T181721Z
CREATED:20090914T023444Z
UID:ATEvent-b898a069476312606e0c080835d38a7a
LAST-MODIFIED:20090914T023450Z
SUMMARY:Mha puja\:vali puja
DTSTART:20091018T053500Z
DTEND:20091019T023500Z
DESCRIPTION:Mha puja\:vali puja
LOCATION:Nepal
CLASS:PUBLIC
END:VEVENT
END:VCALENDAR
