BEGIN:VCALENDAR
PRODID:-//AT Content Types//AT Event//EN
VERSION:2.0
METHOD:PUBLISH
BEGIN:VEVENT
DTSTAMP:20260419T183355Z
CREATED:20090608T024707Z
UID:ATEvent-7ef2ea22dc490fb9dc260d4b4379c189
LAST-MODIFIED:20090608T024717Z
SUMMARY:Nagapanchami\: Taudha mela
DTSTART:20090726T055000Z
DTEND:20090727T025000Z
DESCRIPTION:Nagapanchami\: Taudha mela
CLASS:PUBLIC
END:VEVENT
END:VCALENDAR
