BEGIN:VCALENDAR
PRODID:-//AT Content Types//AT Event//EN
VERSION:1.0
BEGIN:VEVENT
DTSTART:20090312T042000Z
DTEND:20090313T032000Z
DCREATED:20090128T190134Z
UID:ATEvent-999d2252aefca8238a82a921f75203d7
SEQUENCE:0
LAST-MODIFIED:20090128T190238Z
SUMMARY:Nala Matsyandranath bathing
DESCRIPTION:Nala Matsyandranath bathing
LOCATION:Nepal
PRIORITY:3
TRANSP:0
END:VEVENT
END:VCALENDAR
