BEGIN:VCALENDAR
PRODID:-//AT Content Types//AT Event//EN
VERSION:1.0
BEGIN:VEVENT
DTSTART:20090314T041000Z
DTEND:20090315T031000Z
DCREATED:20090128T190654Z
UID:ATEvent-dd5be5c262951675bade7c540b110a08
SEQUENCE:0
LAST-MODIFIED:20090128T190701Z
SUMMARY:Nala Matsyandranath Yatra
DESCRIPTION:Nala Matsyandranath Yatra
LOCATION:Nepal
PRIORITY:3
TRANSP:0
END:VEVENT
END:VCALENDAR
