BEGIN:VCALENDAR
PRODID:-//AT Content Types//AT Event//EN
VERSION:1.0
BEGIN:VEVENT
DTSTART:20090218T051500Z
DTEND:20090219T041500Z
DCREATED:20090128T181512Z
UID:ATEvent-de883de3d729504af1ddd58a4f7862b1
SEQUENCE:0
LAST-MODIFIED:20090128T181555Z
SUMMARY:National Democracy Day
DESCRIPTION:National Democracy Day
LOCATION:Nepal
PRIORITY:3
TRANSP:0
END:VEVENT
END:VCALENDAR
