BEGIN:VCALENDAR
PRODID:-//AT Content Types//AT Event//EN
VERSION:2.0
METHOD:PUBLISH
BEGIN:VEVENT
DTSTAMP:20260419T182624Z
CREATED:20090914T022537Z
UID:ATEvent-d465bea1b4564b421523fb85d0dfb7f6
LAST-MODIFIED:20090914T022551Z
SUMMARY:Navapatrika praves\:Phulpati
DTSTART:20090925T052500Z
DTEND:20090926T022500Z
DESCRIPTION:Navapatrika praves\:Phulpati
LOCATION:Nepal
CLASS:PUBLIC
END:VEVENT
END:VCALENDAR
