BEGIN:VCALENDAR
PRODID:-//AT Content Types//AT Event//EN
VERSION:1.0
BEGIN:VEVENT
DTSTART:20090923T052500Z
DTEND:20090924T022500Z
DCREATED:20090914T022316Z
UID:ATEvent-58c5bac3af84beb903d90a7da2ade703
SEQUENCE:0
LAST-MODIFIED:20090914T022331Z
SUMMARY:Pacali Bhairava Jatra
DESCRIPTION:Pacali Bhairava jatra
LOCATION:Nepal
PRIORITY:3
TRANSP:0
END:VEVENT
END:VCALENDAR
