BEGIN:VCALENDAR
PRODID:-//AT Content Types//AT Event//EN
VERSION:2.0
METHOD:PUBLISH
BEGIN:VEVENT
DTSTAMP:20260419T181329Z
CREATED:20090914T021905Z
UID:ATEvent-755e6346590ffe8d79ab5abdaf30b0a7
LAST-MODIFIED:20090914T021926Z
SUMMARY:Pharping Harisankar jatra
DTSTART:20090915T052000Z
DTEND:20090916T022000Z
DESCRIPTION:Pharping Harisankar jatra
LOCATION:Nepal
CLASS:PUBLIC
END:VEVENT
END:VCALENDAR
