BEGIN:VCALENDAR
PRODID:-//AT Content Types//AT Event//EN
VERSION:2.0
METHOD:PUBLISH
BEGIN:VEVENT
DTSTAMP:20260419T163824Z
CREATED:20090427T190857Z
UID:ATEvent-97df16d9b09dc5c117a400ab1492842c
LAST-MODIFIED:20090427T191010Z
SUMMARY:Rato Matsyendranath Jatra begins
DTSTART:20090429T071000Z
DTEND:20090430T031000Z
DESCRIPTION:Rato Matsyendranath Jatra begins
CLASS:PUBLIC
END:VEVENT
END:VCALENDAR
