BEGIN:VCALENDAR
PRODID:-//AT Content Types//AT Event//EN
VERSION:2.0
METHOD:PUBLISH
BEGIN:VEVENT
DTSTAMP:20260419T181318Z
CREATED:20101219T015532Z
UID:ATEvent-8caf623fae60b6a55fcaf158653b82ea
LAST-MODIFIED:20101219T015550Z
SUMMARY:Remembering December 15\, 1960
DTSTART:20101219T015500Z
DTEND:20101219T015500Z
DESCRIPTION:Issue 51\, December 19\, 2010
CLASS:PUBLIC
END:VEVENT
END:VCALENDAR
