BEGIN:VCALENDAR
PRODID:-//AT Content Types//AT Event//EN
VERSION:1.0
BEGIN:VEVENT
DTSTART:20091102T064000Z
DTEND:20091103T034000Z
DCREATED:20090914T023850Z
UID:ATEvent-295ec707b614928fb1868499721c72fa
SEQUENCE:0
LAST-MODIFIED:20090914T023857Z
SUMMARY:Sakimanha punhi
DESCRIPTION:Sakimanha punhi
LOCATION:Nepal
PRIORITY:3
TRANSP:0
END:VEVENT
END:VCALENDAR
