BEGIN:VCALENDAR
PRODID:-//AT Content Types//AT Event//EN
VERSION:2.0
METHOD:PUBLISH
BEGIN:VEVENT
DTSTAMP:20260419T163625Z
CREATED:20090128T191137Z
UID:ATEvent-b60f0b1fc504c702c1a84dc4b142fc61
LAST-MODIFIED:20090128T191144Z
SUMMARY:Seto Matsyandranath Yatra
DTSTART:20090403T041000Z
DTEND:20090404T031000Z
DESCRIPTION:Seto Matsyandranath Yatra
LOCATION:Patan\, Nepal
CLASS:PUBLIC
END:VEVENT
END:VCALENDAR
