BEGIN:VCALENDAR
PRODID:-//AT Content Types//AT Event//EN
VERSION:2.0
METHOD:PUBLISH
BEGIN:VEVENT
DTSTAMP:20260419T164854Z
CREATED:20090914T022031Z
UID:ATEvent-bde9ad684210e52cd6c372f95a9637ab
LAST-MODIFIED:20090914T022052Z
SUMMARY:Soraha sradha ends
DTSTART:20090918T052000Z
DTEND:20090919T022000Z
DESCRIPTION:Soraha sradha ends
LOCATION:nepal
CLASS:PUBLIC
END:VEVENT
END:VCALENDAR
