BEGIN:VCALENDAR
PRODID:-//AT Content Types//AT Event//EN
VERSION:1.0
BEGIN:VEVENT
DTSTART:20090131T051000Z
DTEND:20090201T041000Z
DCREATED:20090128T180823Z
UID:ATEvent-986bea7a87e3877bfa9c866653c858ed
SEQUENCE:0
LAST-MODIFIED:20090128T180859Z
SUMMARY:Sri Panchami
DESCRIPTION:Sri Panchami
LOCATION:Nepal
PRIORITY:3
TRANSP:0
END:VEVENT
END:VCALENDAR
