BEGIN:VCALENDAR
PRODID:-//AT Content Types//AT Event//EN
VERSION:1.0
BEGIN:VEVENT
DTSTART:20090707T054500Z
DTEND:20090708T024500Z
DCREATED:20090608T024402Z
UID:ATEvent-e081967398538b0bd72c7bea6d655374
SEQUENCE:0
LAST-MODIFIED:20090608T024410Z
SUMMARY:Teacher’s Day
DESCRIPTION:Teacher’s Day
PRIORITY:3
TRANSP:0
END:VEVENT
END:VCALENDAR
