BEGIN:VCALENDAR
PRODID:-//AT Content Types//AT Event//EN
VERSION:2.0
METHOD:PUBLISH
BEGIN:VEVENT
DTSTAMP:20260419T165822Z
CREATED:20090608T024307Z
UID:ATEvent-500a21c30b67893a2f2440144f1f994f
LAST-MODIFIED:20090608T024317Z
SUMMARY:Transplantation of tulsi
DTSTART:20090703T054500Z
DTEND:20090704T024500Z
DESCRIPTION:Transplantation of tulsi
LOCATION:Nepal
CLASS:PUBLIC
END:VEVENT
END:VCALENDAR
