BEGIN:VCALENDAR
PRODID:-//AT Content Types//AT Event//EN
VERSION:2.0
METHOD:PUBLISH
BEGIN:VEVENT
DTSTAMP:20260419T164848Z
CREATED:20090914T023756Z
UID:ATEvent-f8bb367ac3c3213b1d0f90d89c16edbe
LAST-MODIFIED:20090914T023810Z
SUMMARY:Tulsi hom
DTSTART:20091029T054000Z
DTEND:20091030T024000Z
DESCRIPTION:Tulsi hom
LOCATION:Nepal
CLASS:PUBLIC
END:VEVENT
END:VCALENDAR
