BEGIN:VCALENDAR
PRODID:-//AT Content Types//AT Event//EN
VERSION:1.0
BEGIN:VEVENT
DTSTART:20090509T051500Z
DTEND:20090510T031500Z
DCREATED:20090427T191617Z
UID:ATEvent-707f99b9039f2a173761e794f628c371
SEQUENCE:0
LAST-MODIFIED:20090427T193822Z
SUMMARY:Ubhauli parva
DESCRIPTION:Ubhauli parva
LOCATION:Nepal
PRIORITY:3
TRANSP:0
END:VEVENT
END:VCALENDAR
