BEGIN:VCALENDAR
PRODID:-//AT Content Types//AT Event//EN
VERSION:2.0
METHOD:PUBLISH
BEGIN:VEVENT
DTSTAMP:20260419T183330Z
CREATED:20090914T022831Z
UID:ATEvent-2fcc38c86c0806a7539ffdd694f9a2a1
LAST-MODIFIED:20090914T022842Z
SUMMARY:Vijaya Dasami\: Tika\: Khadgajatra
DTSTART:20090928T053000Z
DTEND:20090929T023000Z
DESCRIPTION:Vijaya Dasami\: Tika\: Khadgajatra
CLASS:PUBLIC
END:VEVENT
END:VCALENDAR
